Package: qcmetrics Version: 1.45.0 Command: /home/biocbuild/bbs-3.21-bioc/R/bin/R CMD build --keep-empty-dirs --no-resave-data qcmetrics StartedAt: 2025-02-20 18:48:23 -0500 (Thu, 20 Feb 2025) EndedAt: 2025-02-20 18:48:51 -0500 (Thu, 20 Feb 2025) EllapsedTime: 28.0 seconds RetCode: 0 Status: OK PackageFile: qcmetrics_1.45.0.tar.gz PackageFileSize: 4.219 MiB