Package: qcmetrics Version: 1.45.0 Command: /Library/Frameworks/R.framework/Resources/bin/R CMD INSTALL qcmetrics StartedAt: 2025-02-21 15:13:26 -0500 (Fri, 21 Feb 2025) EndedAt: 2025-02-21 15:13:38 -0500 (Fri, 21 Feb 2025) EllapsedTime: 12.1 seconds RetCode: 0 Status: OK