Package: qcmetrics Version: 1.45.0 Command: /Library/Frameworks/R.framework/Resources/bin/R CMD build --keep-empty-dirs --no-resave-data qcmetrics StartedAt: 2025-02-21 17:53:01 -0500 (Fri, 21 Feb 2025) EndedAt: 2025-02-21 17:53:36 -0500 (Fri, 21 Feb 2025) EllapsedTime: 35.4 seconds RetCode: 0 Status: OK PackageFile: qcmetrics_1.45.0.tar.gz PackageFileSize: 4.216 MiB