Package: qcmetrics Version: 1.45.0 Command: rm -rf qcmetrics.buildbin-libdir && mkdir qcmetrics.buildbin-libdir && /Users/biocbuild/BBS/utils/build-universal.sh qcmetrics_1.45.0.tar.gz /Library/Frameworks/R.framework/Resources/bin/R qcmetrics.buildbin-libdir StartedAt: 2025-02-22 00:47:43 -0500 (Sat, 22 Feb 2025) EndedAt: 2025-02-22 00:47:56 -0500 (Sat, 22 Feb 2025) EllapsedTime: 12.8 seconds RetCode: 0 Status: OK PackageFile: qcmetrics_1.45.0.tgz PackageFileSize: 4.071 MiB