Package: qcmetrics Version: 1.45.0 Command: /Library/Frameworks/R.framework/Resources/bin/R CMD INSTALL qcmetrics StartedAt: 2025-02-20 15:12:16 -0500 (Thu, 20 Feb 2025) EndedAt: 2025-02-20 15:12:18 -0500 (Thu, 20 Feb 2025) EllapsedTime: 2.7 seconds RetCode: 0 Status: OK