Package: qckitfastq Version: 1.23.0 Command: /Library/Frameworks/R.framework/Resources/bin/R CMD INSTALL qckitfastq StartedAt: 2025-02-18 15:08:20 -0500 (Tue, 18 Feb 2025) EndedAt: 2025-02-18 15:08:43 -0500 (Tue, 18 Feb 2025) EllapsedTime: 23.0 seconds RetCode: 0 Status: OK