Package: qckitfastq Version: 1.23.0 Command: /Library/Frameworks/R.framework/Resources/bin/R CMD check --install=check:qckitfastq.install-out.txt --library=/Library/Frameworks/R.framework/Resources/library --no-vignettes --timings qckitfastq_1.23.0.tar.gz StartedAt: 2025-02-18 22:27:10 -0500 (Tue, 18 Feb 2025) EndedAt: 2025-02-18 22:28:36 -0500 (Tue, 18 Feb 2025) EllapsedTime: 85.9 seconds RetCode: 0 Status: OK CheckDir: qckitfastq.Rcheck Warnings: 0