Package: qckitfastq Version: 1.23.0 Command: rm -rf qckitfastq.buildbin-libdir && mkdir qckitfastq.buildbin-libdir && /Users/biocbuild/BBS/utils/build-universal.sh qckitfastq_1.23.0.tar.gz /Library/Frameworks/R.framework/Resources/bin/R qckitfastq.buildbin-libdir StartedAt: 2025-02-19 00:40:47 -0500 (Wed, 19 Feb 2025) EndedAt: 2025-02-19 00:41:12 -0500 (Wed, 19 Feb 2025) EllapsedTime: 25.3 seconds RetCode: 0 Status: OK PackageFile: qckitfastq_1.23.0.tgz PackageFileSize: 1.07 MiB