Package: qckitfastq Version: 1.23.0 Command: /Library/Frameworks/R.framework/Resources/bin/R CMD INSTALL qckitfastq StartedAt: 2025-02-18 15:05:56 -0500 (Tue, 18 Feb 2025) EndedAt: 2025-02-18 15:06:03 -0500 (Tue, 18 Feb 2025) EllapsedTime: 6.7 seconds RetCode: 0 Status: OK