Package: qPLEXanalyzer Version: 1.25.0 Command: /home/biocbuild/bbs-3.21-bioc/R/bin/R CMD check --install=check:qPLEXanalyzer.install-out.txt --library=/home/biocbuild/bbs-3.21-bioc/R/site-library --timings qPLEXanalyzer_1.25.0.tar.gz StartedAt: 2025-02-21 00:54:27 -0500 (Fri, 21 Feb 2025) EndedAt: 2025-02-21 00:59:25 -0500 (Fri, 21 Feb 2025) EllapsedTime: 297.4 seconds RetCode: 0 Status: OK CheckDir: qPLEXanalyzer.Rcheck Warnings: 0