Package: pwalign Version: 1.3.2 Command: E:\biocbuild\bbs-3.21-bioc\R\bin\R.exe CMD check --no-multiarch --install=check:pwalign.install-out.txt --library=E:\biocbuild\bbs-3.21-bioc\R\library --no-vignettes --timings pwalign_1.3.2.tar.gz StartedAt: 2025-02-21 04:38:42 -0500 (Fri, 21 Feb 2025) EndedAt: 2025-02-21 04:40:51 -0500 (Fri, 21 Feb 2025) EllapsedTime: 128.7 seconds RetCode: 0 Status: OK CheckDir: pwalign.Rcheck Warnings: 0