Package: pwalign Version: 1.3.2 Command: chmod a+r pwalign -R && E:\biocbuild\bbs-3.21-bioc\R\bin\R.exe CMD build --keep-empty-dirs --no-resave-data pwalign StartedAt: 2025-02-20 20:59:18 -0500 (Thu, 20 Feb 2025) EndedAt: 2025-02-20 21:00:47 -0500 (Thu, 20 Feb 2025) EllapsedTime: 88.6 seconds RetCode: 0 Status: OK PackageFile: pwalign_1.3.2.tar.gz PackageFileSize: 348.7 KiB