Package: pwalign Version: 1.3.2 Command: /home/biocbuild/bbs-3.21-bioc/R/bin/R CMD build --keep-empty-dirs --no-resave-data pwalign StartedAt: 2025-02-20 18:48:05 -0500 (Thu, 20 Feb 2025) EndedAt: 2025-02-20 18:49:02 -0500 (Thu, 20 Feb 2025) EllapsedTime: 57.0 seconds RetCode: 0 Status: OK PackageFile: pwalign_1.3.2.tar.gz PackageFileSize: 346.5 KiB