Package: pwalign Version: 1.3.2 Command: /Library/Frameworks/R.framework/Resources/bin/R CMD INSTALL pwalign StartedAt: 2025-02-20 15:08:58 -0500 (Thu, 20 Feb 2025) EndedAt: 2025-02-20 15:09:22 -0500 (Thu, 20 Feb 2025) EllapsedTime: 23.5 seconds RetCode: 0 Status: OK