Package: pwalign Version: 1.3.2 Command: /Library/Frameworks/R.framework/Resources/bin/R CMD INSTALL pwalign StartedAt: 2025-02-19 15:04:09 -0500 (Wed, 19 Feb 2025) EndedAt: 2025-02-19 15:04:15 -0500 (Wed, 19 Feb 2025) EllapsedTime: 6.7 seconds RetCode: 0 Status: OK