Package: pwalign Version: 1.3.2 Command: /Library/Frameworks/R.framework/Resources/bin/R CMD check --install=check:pwalign.install-out.txt --library=/Library/Frameworks/R.framework/Resources/library --no-vignettes --timings pwalign_1.3.2.tar.gz StartedAt: 2025-02-19 20:54:09 -0500 (Wed, 19 Feb 2025) EndedAt: 2025-02-19 20:54:52 -0500 (Wed, 19 Feb 2025) EllapsedTime: 42.6 seconds RetCode: 0 Status: OK CheckDir: pwalign.Rcheck Warnings: 0