Package: pwalign Version: 1.3.2 Command: rm -rf pwalign.buildbin-libdir && mkdir pwalign.buildbin-libdir && /Users/biocbuild/BBS/utils/build-universal.sh pwalign_1.3.2.tar.gz /Library/Frameworks/R.framework/Resources/bin/R pwalign.buildbin-libdir StartedAt: 2025-02-19 22:33:44 -0500 (Wed, 19 Feb 2025) EndedAt: 2025-02-19 22:33:53 -0500 (Wed, 19 Feb 2025) EllapsedTime: 8.2 seconds RetCode: 0 Status: OK PackageFile: pwalign_1.3.2.tgz PackageFileSize: 758 KiB