Package: pvca Version: 1.47.0 Command: E:\biocbuild\bbs-3.21-bioc\R\bin\R.exe CMD INSTALL pvca StartedAt: 2025-02-20 15:31:14 -0500 (Thu, 20 Feb 2025) EndedAt: 2025-02-20 15:31:26 -0500 (Thu, 20 Feb 2025) EllapsedTime: 12.3 seconds RetCode: 0 Status: OK