Package: pvca Version: 1.47.0 Command: chmod a+r pvca -R && E:\biocbuild\bbs-3.21-bioc\R\bin\R.exe CMD build --keep-empty-dirs --no-resave-data pvca StartedAt: 2025-02-20 20:59:14 -0500 (Thu, 20 Feb 2025) EndedAt: 2025-02-20 21:00:03 -0500 (Thu, 20 Feb 2025) EllapsedTime: 49.1 seconds RetCode: 0 Status: OK PackageFile: pvca_1.47.0.tar.gz PackageFileSize: 109.4 KiB