Package: pvca Version: 1.47.0 Command: /Library/Frameworks/R.framework/Resources/bin/R CMD INSTALL pvca StartedAt: 2025-02-20 15:10:56 -0500 (Thu, 20 Feb 2025) EndedAt: 2025-02-20 15:11:09 -0500 (Thu, 20 Feb 2025) EllapsedTime: 12.8 seconds RetCode: 0 Status: OK