Package: pvca Version: 1.47.0 Command: /Library/Frameworks/R.framework/Resources/bin/R CMD check --install=check:pvca.install-out.txt --library=/Library/Frameworks/R.framework/Resources/library --no-vignettes --timings pvca_1.47.0.tar.gz StartedAt: 2025-02-20 22:31:24 -0500 (Thu, 20 Feb 2025) EndedAt: 2025-02-20 22:32:42 -0500 (Thu, 20 Feb 2025) EllapsedTime: 77.9 seconds RetCode: 0 Status: OK CheckDir: pvca.Rcheck Warnings: 0