Package: pvca Version: 1.47.0 Command: /Library/Frameworks/R.framework/Resources/bin/R CMD check --install=check:pvca.install-out.txt --library=/Library/Frameworks/R.framework/Resources/library --no-vignettes --timings pvca_1.47.0.tar.gz StartedAt: 2025-02-20 20:50:50 -0500 (Thu, 20 Feb 2025) EndedAt: 2025-02-20 20:51:17 -0500 (Thu, 20 Feb 2025) EllapsedTime: 27.3 seconds RetCode: 0 Status: OK CheckDir: pvca.Rcheck Warnings: 0