Package: pvac Version: 1.55.0 Command: /home/biocbuild/bbs-3.21-bioc/R/bin/R CMD INSTALL pvac StartedAt: 2025-02-20 15:21:43 -0500 (Thu, 20 Feb 2025) EndedAt: 2025-02-20 15:21:47 -0500 (Thu, 20 Feb 2025) EllapsedTime: 3.6 seconds RetCode: 0 Status: OK