Package: pvac Version: 1.55.0 Command: /Library/Frameworks/R.framework/Resources/bin/R CMD check --install=check:pvac.install-out.txt --library=/Library/Frameworks/R.framework/Resources/library --no-vignettes --timings pvac_1.55.0.tar.gz StartedAt: 2025-02-20 22:31:21 -0500 (Thu, 20 Feb 2025) EndedAt: 2025-02-20 22:32:08 -0500 (Thu, 20 Feb 2025) EllapsedTime: 47.0 seconds RetCode: 0 Status: OK CheckDir: pvac.Rcheck Warnings: 0