Package: pvac Version: 1.55.0 Command: /Library/Frameworks/R.framework/Resources/bin/R CMD INSTALL pvac StartedAt: 2025-02-20 15:02:14 -0500 (Thu, 20 Feb 2025) EndedAt: 2025-02-20 15:02:18 -0500 (Thu, 20 Feb 2025) EllapsedTime: 4.0 seconds RetCode: 0 Status: OK