Package: puma Version: 3.49.0 Command: /Library/Frameworks/R.framework/Resources/bin/R CMD build --keep-empty-dirs --no-resave-data puma StartedAt: 2025-02-19 17:52:10 -0500 (Wed, 19 Feb 2025) EndedAt: 2025-02-19 17:52:12 -0500 (Wed, 19 Feb 2025) EllapsedTime: 2.3 seconds RetCode: 1 Status: ERROR PackageFile: None PackageFileSize: NA