Package: ptairMS Version: 1.15.0 Command: rm -rf ptairMS.buildbin-libdir && mkdir ptairMS.buildbin-libdir && /Users/biocbuild/BBS/utils/build-universal.sh ptairMS_1.15.0.tar.gz /Library/Frameworks/R.framework/Resources/bin/R ptairMS.buildbin-libdir StartedAt: 2025-02-21 00:46:34 -0500 (Fri, 21 Feb 2025) EndedAt: 2025-02-21 00:47:05 -0500 (Fri, 21 Feb 2025) EllapsedTime: 31.3 seconds RetCode: 0 Status: OK PackageFile: ptairMS_1.15.0.tgz PackageFileSize: 3.433 MiB