Package: ptairMS Version: 1.15.0 Command: /Library/Frameworks/R.framework/Resources/bin/R CMD check --install=check:ptairMS.install-out.txt --library=/Library/Frameworks/R.framework/Resources/library --no-vignettes --timings ptairMS_1.15.0.tar.gz StartedAt: 2025-02-20 20:49:57 -0500 (Thu, 20 Feb 2025) EndedAt: 2025-02-20 20:53:14 -0500 (Thu, 20 Feb 2025) EllapsedTime: 197.3 seconds RetCode: 1 Status: ERROR CheckDir: ptairMS.Rcheck Warnings: NA