Package: ptairMS Version: 1.15.0 Command: /Library/Frameworks/R.framework/Resources/bin/R CMD build --keep-empty-dirs --no-resave-data ptairMS StartedAt: 2025-02-20 17:17:46 -0500 (Thu, 20 Feb 2025) EndedAt: 2025-02-20 17:18:56 -0500 (Thu, 20 Feb 2025) EllapsedTime: 69.8 seconds RetCode: 0 Status: OK PackageFile: ptairMS_1.15.0.tar.gz PackageFileSize: 3.356 MiB