Package: ptairMS Version: 1.15.0 Command: rm -rf ptairMS.buildbin-libdir && mkdir ptairMS.buildbin-libdir && /Users/biocbuild/BBS/utils/build-universal.sh ptairMS_1.15.0.tar.gz /Library/Frameworks/R.framework/Resources/bin/R ptairMS.buildbin-libdir StartedAt: 2025-02-20 22:30:30 -0500 (Thu, 20 Feb 2025) EndedAt: 2025-02-20 22:30:39 -0500 (Thu, 20 Feb 2025) EllapsedTime: 9.1 seconds RetCode: 0 Status: OK PackageFile: ptairMS_1.15.0.tgz PackageFileSize: 3.434 MiB