Package: psichomics Version: 1.33.0 Command: E:\biocbuild\bbs-3.21-bioc\R\bin\R.exe CMD INSTALL psichomics StartedAt: 2025-02-18 16:36:10 -0500 (Tue, 18 Feb 2025) EndedAt: 2025-02-18 16:39:27 -0500 (Tue, 18 Feb 2025) EllapsedTime: 197.3 seconds RetCode: 0 Status: OK