Package: psichomics Version: 1.33.0 Command: /Library/Frameworks/R.framework/Resources/bin/R CMD check --install=check:psichomics.install-out.txt --library=/Library/Frameworks/R.framework/Resources/library --no-vignettes --timings psichomics_1.33.0.tar.gz StartedAt: 2025-02-18 22:25:43 -0500 (Tue, 18 Feb 2025) EndedAt: 2025-02-18 22:34:40 -0500 (Tue, 18 Feb 2025) EllapsedTime: 537.7 seconds RetCode: 0 Status: OK CheckDir: psichomics.Rcheck Warnings: 0