Package: psichomics Version: 1.33.0 Command: /Library/Frameworks/R.framework/Resources/bin/R CMD INSTALL psichomics StartedAt: 2025-02-18 15:19:50 -0500 (Tue, 18 Feb 2025) EndedAt: 2025-02-18 15:20:20 -0500 (Tue, 18 Feb 2025) EllapsedTime: 29.5 seconds RetCode: 0 Status: OK