Package: psichomics Version: 1.33.0 Command: /Library/Frameworks/R.framework/Resources/bin/R CMD build --keep-empty-dirs --no-resave-data psichomics StartedAt: 2025-02-18 17:19:22 -0500 (Tue, 18 Feb 2025) EndedAt: 2025-02-18 17:20:12 -0500 (Tue, 18 Feb 2025) EllapsedTime: 50.6 seconds RetCode: 0 Status: OK PackageFile: psichomics_1.33.0.tar.gz PackageFileSize: 6.125 MiB