Package: proteinProfiles Version: 1.47.0 Command: chmod a+r proteinProfiles -R && E:\biocbuild\bbs-3.21-bioc\R\bin\R.exe CMD build --keep-empty-dirs --no-resave-data proteinProfiles StartedAt: 2025-02-18 20:50:38 -0500 (Tue, 18 Feb 2025) EndedAt: 2025-02-18 20:51:07 -0500 (Tue, 18 Feb 2025) EllapsedTime: 29.4 seconds RetCode: 0 Status: OK PackageFile: proteinProfiles_1.47.0.tar.gz PackageFileSize: 244.4 KiB