Package: protGear Version: 1.11.0 Command: E:\biocbuild\bbs-3.21-bioc\R\bin\R.exe CMD check --no-multiarch --install=check:protGear.install-out.txt --library=E:\biocbuild\bbs-3.21-bioc\R\library --no-vignettes --timings protGear_1.11.0.tar.gz StartedAt: 2025-02-21 04:36:46 -0500 (Fri, 21 Feb 2025) EndedAt: 2025-02-21 04:40:17 -0500 (Fri, 21 Feb 2025) EllapsedTime: 211.7 seconds RetCode: 0 Status: OK CheckDir: protGear.Rcheck Warnings: 0