Package: protGear Version: 1.11.0 Command: chmod a+r protGear -R && E:\biocbuild\bbs-3.21-bioc\R\bin\R.exe CMD build --keep-empty-dirs --no-resave-data protGear StartedAt: 2025-02-20 20:58:30 -0500 (Thu, 20 Feb 2025) EndedAt: 2025-02-20 21:00:33 -0500 (Thu, 20 Feb 2025) EllapsedTime: 123.5 seconds RetCode: 0 Status: OK PackageFile: protGear_1.11.0.tar.gz PackageFileSize: 2.93 MiB