Package: protGear Version: 1.11.0 Command: rm -rf protGear.buildbin-libdir && mkdir protGear.buildbin-libdir && E:\biocbuild\bbs-3.21-bioc\R\bin\R.exe CMD INSTALL --build --library=protGear.buildbin-libdir protGear_1.11.0.tar.gz StartedAt: 2025-02-21 08:48:48 -0500 (Fri, 21 Feb 2025) EndedAt: 2025-02-21 08:49:46 -0500 (Fri, 21 Feb 2025) EllapsedTime: 57.8 seconds RetCode: 0 Status: OK PackageFile: protGear_1.11.0.zip PackageFileSize: 1.829 MiB