Package: protGear Version: 1.11.0 Command: /Library/Frameworks/R.framework/Resources/bin/R CMD check --install=check:protGear.install-out.txt --library=/Library/Frameworks/R.framework/Resources/library --no-vignettes --timings protGear_1.11.0.tar.gz StartedAt: 2025-02-20 22:30:31 -0500 (Thu, 20 Feb 2025) EndedAt: 2025-02-20 22:33:38 -0500 (Thu, 20 Feb 2025) EllapsedTime: 186.7 seconds RetCode: 0 Status: OK CheckDir: protGear.Rcheck Warnings: 0