Package: protGear Version: 1.11.0 Command: /Library/Frameworks/R.framework/Resources/bin/R CMD build --keep-empty-dirs --no-resave-data protGear StartedAt: 2025-02-20 17:51:52 -0500 (Thu, 20 Feb 2025) EndedAt: 2025-02-20 17:52:57 -0500 (Thu, 20 Feb 2025) EllapsedTime: 65.0 seconds RetCode: 0 Status: OK PackageFile: protGear_1.11.0.tar.gz PackageFileSize: 5.043 MiB