Package: protGear Version: 1.11.0 Command: /Library/Frameworks/R.framework/Resources/bin/R CMD build --keep-empty-dirs --no-resave-data protGear StartedAt: 2025-02-19 17:18:44 -0500 (Wed, 19 Feb 2025) EndedAt: 2025-02-19 17:19:07 -0500 (Wed, 19 Feb 2025) EllapsedTime: 23.3 seconds RetCode: 0 Status: OK PackageFile: protGear_1.11.0.tar.gz PackageFileSize: 5.037 MiB