Package: projectR Version: 1.23.0 Command: E:\biocbuild\bbs-3.21-bioc\R\bin\R.exe CMD INSTALL projectR StartedAt: 2025-02-19 16:34:36 -0500 (Wed, 19 Feb 2025) EndedAt: 2025-02-19 16:35:11 -0500 (Wed, 19 Feb 2025) EllapsedTime: 35.3 seconds RetCode: 0 Status: OK