Package: projectR Version: 1.23.0 Command: chmod a+r projectR -R && E:\biocbuild\bbs-3.21-bioc\R\bin\R.exe CMD build --keep-empty-dirs --no-resave-data projectR StartedAt: 2025-02-19 20:53:55 -0500 (Wed, 19 Feb 2025) EndedAt: 2025-02-19 20:55:29 -0500 (Wed, 19 Feb 2025) EllapsedTime: 93.6 seconds RetCode: 0 Status: OK PackageFile: projectR_1.23.0.tar.gz PackageFileSize: 5.138 MiB