Package: projectR Version: 1.23.0 Command: /home/biocbuild/bbs-3.21-bioc/R/bin/R CMD build --keep-empty-dirs --no-resave-data projectR StartedAt: 2025-02-19 18:41:57 -0500 (Wed, 19 Feb 2025) EndedAt: 2025-02-19 18:42:45 -0500 (Wed, 19 Feb 2025) EllapsedTime: 48.1 seconds RetCode: 0 Status: OK PackageFile: projectR_1.23.0.tar.gz PackageFileSize: 5.874 MiB