Package: progeny Version: 1.29.0 Command: /home/biocbuild/R/R/bin/R CMD check --install=check:progeny.install-out.txt --library=/home/biocbuild/R/R/site-library --no-vignettes --timings progeny_1.29.0.tar.gz StartedAt: 2025-01-28 14:05:01 -0000 (Tue, 28 Jan 2025) EndedAt: 2025-01-28 14:07:26 -0000 (Tue, 28 Jan 2025) EllapsedTime: 145.1 seconds RetCode: 0 Status: OK CheckDir: progeny.Rcheck Warnings: 0