Package: profileplyr Version: 1.23.0 Command: chmod a+r profileplyr -R && E:\biocbuild\bbs-3.21-bioc\R\bin\R.exe CMD build --keep-empty-dirs --no-resave-data profileplyr StartedAt: 2025-02-20 20:56:32 -0500 (Thu, 20 Feb 2025) EndedAt: 2025-02-20 20:59:58 -0500 (Thu, 20 Feb 2025) EllapsedTime: 205.8 seconds RetCode: 0 Status: OK PackageFile: profileplyr_1.23.0.tar.gz PackageFileSize: 2.291 MiB