Package: profileplyr Version: 1.23.0 Command: /home/biocbuild/bbs-3.21-bioc/R/bin/R CMD check --install=check:profileplyr.install-out.txt --library=/home/biocbuild/bbs-3.21-bioc/R/site-library --timings profileplyr_1.23.0.tar.gz StartedAt: 2025-02-21 00:47:55 -0500 (Fri, 21 Feb 2025) EndedAt: 2025-02-21 00:57:38 -0500 (Fri, 21 Feb 2025) EllapsedTime: 583.8 seconds RetCode: 0 Status: OK CheckDir: profileplyr.Rcheck Warnings: 0