Package: profileplyr Version: 1.23.0 Command: /Library/Frameworks/R.framework/Resources/bin/R CMD INSTALL profileplyr StartedAt: 2025-02-20 15:34:27 -0500 (Thu, 20 Feb 2025) EndedAt: 2025-02-20 15:35:39 -0500 (Thu, 20 Feb 2025) EllapsedTime: 72.4 seconds RetCode: 0 Status: OK