Package: profileScoreDist Version: 1.35.0 Command: /Library/Frameworks/R.framework/Resources/bin/R CMD INSTALL profileScoreDist StartedAt: 2025-02-20 15:04:02 -0500 (Thu, 20 Feb 2025) EndedAt: 2025-02-20 15:04:41 -0500 (Thu, 20 Feb 2025) EllapsedTime: 38.5 seconds RetCode: 0 Status: OK