Package: profileScoreDist Version: 1.35.0 Command: /Library/Frameworks/R.framework/Resources/bin/R CMD build --keep-empty-dirs --no-resave-data profileScoreDist StartedAt: 2025-02-20 17:51:09 -0500 (Thu, 20 Feb 2025) EndedAt: 2025-02-20 17:51:30 -0500 (Thu, 20 Feb 2025) EllapsedTime: 20.5 seconds RetCode: 0 Status: OK PackageFile: profileScoreDist_1.35.0.tar.gz PackageFileSize: 187.6 KiB